BEGIN:VCALENDAR
VERSION:2.0
PRODID:-//Mairie de Doizieux - ECPv6.15.20//NONSGML v1.0//EN
CALSCALE:GREGORIAN
METHOD:PUBLISH
X-ORIGINAL-URL:https://www.doizieux.fr
X-WR-CALDESC:Évènements pour Mairie de Doizieux
REFRESH-INTERVAL;VALUE=DURATION:PT1H
X-Robots-Tag:noindex
X-PUBLISHED-TTL:PT1H
BEGIN:VTIMEZONE
TZID:Europe/Paris
BEGIN:DAYLIGHT
TZOFFSETFROM:+0100
TZOFFSETTO:+0200
TZNAME:CEST
DTSTART:20230326T010000
END:DAYLIGHT
BEGIN:STANDARD
TZOFFSETFROM:+0200
TZOFFSETTO:+0100
TZNAME:CET
DTSTART:20231029T010000
END:STANDARD
BEGIN:DAYLIGHT
TZOFFSETFROM:+0100
TZOFFSETTO:+0200
TZNAME:CEST
DTSTART:20240331T010000
END:DAYLIGHT
BEGIN:STANDARD
TZOFFSETFROM:+0200
TZOFFSETTO:+0100
TZNAME:CET
DTSTART:20241027T010000
END:STANDARD
BEGIN:DAYLIGHT
TZOFFSETFROM:+0100
TZOFFSETTO:+0200
TZNAME:CEST
DTSTART:20250330T010000
END:DAYLIGHT
BEGIN:STANDARD
TZOFFSETFROM:+0200
TZOFFSETTO:+0100
TZNAME:CET
DTSTART:20251026T010000
END:STANDARD
BEGIN:DAYLIGHT
TZOFFSETFROM:+0100
TZOFFSETTO:+0200
TZNAME:CEST
DTSTART:20260329T010000
END:DAYLIGHT
BEGIN:STANDARD
TZOFFSETFROM:+0200
TZOFFSETTO:+0100
TZNAME:CET
DTSTART:20261025T010000
END:STANDARD
BEGIN:DAYLIGHT
TZOFFSETFROM:+0100
TZOFFSETTO:+0200
TZNAME:CEST
DTSTART:20270328T010000
END:DAYLIGHT
BEGIN:STANDARD
TZOFFSETFROM:+0200
TZOFFSETTO:+0100
TZNAME:CET
DTSTART:20271031T010000
END:STANDARD
END:VTIMEZONE
BEGIN:VEVENT
DTSTART;TZID=Europe/Paris:20260417T183000
DTEND;TZID=Europe/Paris:20260417T203000
DTSTAMP:20260425T163926
CREATED:20260413T125047Z
LAST-MODIFIED:20260413T125254Z
UID:62867-1776450600-1776457800@www.doizieux.fr
SUMMARY:AG Comité des Fêtes
DESCRIPTION:Le comité des fêtes de doizieux à le plaisir de vous convier à son assemblée générale \nLE VENDREDI 17 AVRIL À 18H30 À L’ANCIENNE ÉCOLE DE ST JUST \nSi vous souhaitez nous rejoindre\, apportez des idées\, des compétences\, ça sera avec plaisirs que nous pourrons échanger ! \nL’assemblée sera suivie d’un verre de l’amitié\, vous pouvez apportez un petit truc à grignoter si vous le souhaitez. \nL’équipe du comité
URL:https://www.doizieux.fr/evenement/ag-comite-des-fetes/
LOCATION:201 Route de l’Ollagnière\, 42740 Doizieux
END:VEVENT
BEGIN:VEVENT
DTSTART;TZID=Europe/Paris:20260314T143000
DTEND;TZID=Europe/Paris:20260314T163000
DTSTAMP:20260425T163926
CREATED:20260227T083320Z
LAST-MODIFIED:20260227T083555Z
UID:62812-1773498600-1773505800@www.doizieux.fr
SUMMARY:Animal Travail - spectacle en plein air
DESCRIPTION:
URL:https://www.doizieux.fr/evenement/animal-travail-spectacle-en-plein-air/
LOCATION:Parking Impasse du Dorlay
ATTACH;FMTTYPE=image/jpeg:https://www.doizieux.fr/wp-content/uploads/2026/02/Doizieux-14-mars-2026-Animal-Travail-Affiche.jpg
END:VEVENT
BEGIN:VEVENT
DTSTART;TZID=Europe/Paris:20260308T090000
DTEND;TZID=Europe/Paris:20260308T180000
DTSTAMP:20260425T163926
CREATED:20260306T161748Z
LAST-MODIFIED:20260306T161748Z
UID:62847-1772960400-1772992800@www.doizieux.fr
SUMMARY:Journée avec les Amis de Doizieux
DESCRIPTION:
URL:https://www.doizieux.fr/evenement/journee-avec-les-amis-de-doizieux-2/
LOCATION:Salle Polyvalente de Doizieux\, 62 route Neuve\, Doizieux\, 42740\, France
ATTACH;FMTTYPE=image/jpeg:https://www.doizieux.fr/wp-content/uploads/2018/05/logo-amis-doizieux.jpg
END:VEVENT
BEGIN:VEVENT
DTSTART;TZID=Europe/Paris:20251111T100000
DTEND;TZID=Europe/Paris:20251111T120000
DTSTAMP:20260425T163926
CREATED:20251104T153451Z
LAST-MODIFIED:20251104T153451Z
UID:62453-1762855200-1762862400@www.doizieux.fr
SUMMARY:Cérémonies du 11 novembre 2025
DESCRIPTION:La cérémonie officielle du 11 novembre 2025 se tiendra au cimetière de La Terrasse-sur-Dorlay. \n            A 10h00\, dépôt de gerbe au cimetière de DOIZIEUX \n            A 10h30\, dépôt de gerbe au cimetière de SAINT JUST EN DOIZIEUX \n            A 11h00\, cérémonie officielle au cimetière de LA TERRASSE SUR DORLAY
URL:https://www.doizieux.fr/evenement/ceremonies-du-11-novembre-2025/
END:VEVENT
BEGIN:VEVENT
DTSTART;TZID=Europe/Paris:20251005T100000
DTEND;TZID=Europe/Paris:20251005T180000
DTSTAMP:20260425T163926
CREATED:20250929T153614Z
LAST-MODIFIED:20250929T153703Z
UID:62378-1759658400-1759687200@www.doizieux.fr
SUMMARY:Doizieux en Fête
DESCRIPTION:Doizieux en Fête Dimanche 5 octobre 2025\nCentre Bourg de 10h à 18h.\nJournée organisée par le Comité des Fêtes et les associations de Doizieux
URL:https://www.doizieux.fr/evenement/doizieux-en-fete/
LOCATION:Centre Bourg Doizieux
ATTACH;FMTTYPE=image/jpeg:https://www.doizieux.fr/wp-content/uploads/2025/09/Doizieux-en-Fete-1.jpg
END:VEVENT
BEGIN:VEVENT
DTSTART;TZID=Europe/Paris:20250914T113000
DTEND;TZID=Europe/Paris:20250914T170000
DTSTAMP:20260425T163926
CREATED:20250908T100805Z
LAST-MODIFIED:20250908T100805Z
UID:62276-1757849400-1757869200@www.doizieux.fr
SUMMARY:Le Chapit en fête
DESCRIPTION:Chères adhérentes\, chers adhérents\, producteurs et partenaires\,\nLe Chapit fête ses 5 ans et nous serions ravi·es de vous compter parmi nous pour célébrer ensemble cette belle aventure participative et solidaire !\n📍 Rendez-vous le dimanche 14 septembre 2025 en fin de matinée – À l’ancienne école de Saint-Just – 201 route de l’Ollagnière\, 42740 Doizieux\nAu programme :\n          🍹 Apéritif offert\n          🥗 Pique-nique partagé\n          🎶 Buvette\, jeux\, pétanque\, concert\, studio photo… et plein de surprises !\n          👉 Le programme détaillé arrive bientôt !\nÉvénement ouvert à toutes et tous\, alors n’hésitez pas à venir en famille\, entre amis ou avec vos voisins.\nÀ très bientôt pour souffler ensemble ces 5 bougies !\nL’équipe du Chapit
URL:https://www.doizieux.fr/evenement/le-chapit-en-fete/
LOCATION:201 Route de l’Ollagnière\, 42740 Doizieux
END:VEVENT
BEGIN:VEVENT
DTSTART;TZID=Europe/Paris:20250913T103000
DTEND;TZID=Europe/Paris:20250913T120000
DTSTAMP:20260425T163926
CREATED:20250908T100008Z
LAST-MODIFIED:20250908T100008Z
UID:62268-1757759400-1757764800@www.doizieux.fr
SUMMARY:cérémonie en mémoire des victimes du crash de l’avion militaire Dakota américain en 1944
DESCRIPTION:Monsieur Jean-Philippe PORCHEROT\n                                      Maire de DOIZIEUX \n                                      Monsieur Antoine FAVRE\n                                      Président Association cantonale du Souvenir Français\n                                      Comité cantonal de la Grand Croix \nVous invitent à la cérémonie en mémoire des victimes du crash de l’avion militaire\nDakota américain en 1944. \nSAMEDI 13 SEPTEMBRE 2025 \nRassemblement à 10 heures 30 à la stèle érigée à proximité de la Jasserie du Pilat.
URL:https://www.doizieux.fr/evenement/ceremonie-en-memoire-des-victimes-du-crash-de-lavion-militaire-dakota-americain-en-1944/
LOCATION:la Jasserie du Pilat\, la jasserie\, doizieux\, 42740\, France
END:VEVENT
BEGIN:VEVENT
DTSTART;TZID=Europe/Paris:20250912T203000
DTEND;TZID=Europe/Paris:20250912T220000
DTSTAMP:20260425T163926
CREATED:20250908T100350Z
LAST-MODIFIED:20250908T100350Z
UID:62273-1757709000-1757714400@www.doizieux.fr
SUMMARY:Mairie de Doizieux Conférence "Infirmière 1ère Lieutenant Aleda E. LUTZ"
DESCRIPTION:Aleda Ester LUTZ\, infirmière et 1er Lieutenant de l’Armée de l’Air des Etats-Unis d’Amérique\, victime du crash du Dakota C47 dans le massif du Pilat\, au Crêt de Bote (commune de Doizieux)\, le 1er Novembre 1944. \nConférence sur le parcours d’Aleda E. LUTZ par Michel DELANNOY (SFA Draguignan) \nVendredi 12 Septembre 2025 … à 20h30 \nDOIZIEUX (42) – Salle des fêtes
URL:https://www.doizieux.fr/evenement/mairie-de-doizieux-conference-infirmiere-1ere-lieutenant-aleda-e-lutz/
LOCATION:parking Salle Polyvalente
END:VEVENT
BEGIN:VEVENT
DTSTART;TZID=Europe/Paris:20250810T073000
DTEND;TZID=Europe/Paris:20250810T190000
DTSTAMP:20260425T163926
CREATED:20250710T111123Z
LAST-MODIFIED:20250710T111320Z
UID:61886-1754811000-1754852400@www.doizieux.fr
SUMMARY:Fête du Bois
DESCRIPTION:A partir de 7h30 vous pourrez venir manger la traditionnelle soupe aux choux \nDans la matinée il y aura la 1ère manche du concours de débardage et celle du concours de bucheronnage sportif . \n12 concurrents dont Pierre Puybaret\, 8 fois champion de France et notre local Léo Grangier \nA midi un repas campagnard vous sera proposé 🍴 \nAu menu \n\nSalade\nCuisse de bœuf à la broche avec des frites 🍟🥩\nYaourt fermier ou rigotte\nGlace artisanale 🍦\n\nTout au long de la journée la buvette 🍻 \nUne seconde manche aura lieu l’après midi pour les 2 concours \nPour clôturer la journée nous vous proposerons burger frites 🍔
URL:https://www.doizieux.fr/evenement/fete-du-bois-3/
LOCATION:Stade de Foot
END:VEVENT
BEGIN:VEVENT
DTSTART;TZID=Europe/Paris:20250713T100000
DTEND;TZID=Europe/Paris:20250713T190000
DTSTAMP:20260425T163926
CREATED:20250710T111008Z
LAST-MODIFIED:20250710T111008Z
UID:61884-1752400800-1752433200@www.doizieux.fr
SUMMARY:Exposition Scrabble avec ma mère
DESCRIPTION:
URL:https://www.doizieux.fr/evenement/exposition-scrabble-avec-ma-mere-2/
LOCATION:Salle Polyvalente de Doizieux\, 62 route Neuve\, Doizieux\, 42740\, France
END:VEVENT
BEGIN:VEVENT
DTSTART;TZID=Europe/Paris:20250712T100000
DTEND;TZID=Europe/Paris:20250712T190000
DTSTAMP:20260425T163926
CREATED:20250710T110916Z
LAST-MODIFIED:20250710T111154Z
UID:61878-1752314400-1752346800@www.doizieux.fr
SUMMARY:Exposition Scrabble avec ma mère
DESCRIPTION:
URL:https://www.doizieux.fr/evenement/exposition-scrabble-avec-ma-mere/
LOCATION:Salle Polyvalente de Doizieux\, 62 route Neuve\, Doizieux\, 42740\, France
END:VEVENT
BEGIN:VEVENT
DTSTART;TZID=Europe/Paris:20250621T193000
DTEND;TZID=Europe/Paris:20250621T230000
DTSTAMP:20260425T163926
CREATED:20250605T122619Z
LAST-MODIFIED:20250605T122619Z
UID:61639-1750534200-1750546800@www.doizieux.fr
SUMMARY:Fête de la Musique 2025
DESCRIPTION:
URL:https://www.doizieux.fr/evenement/fete-de-la-musique-2025/
LOCATION:parking Salle Polyvalente
ATTACH;FMTTYPE=image/jpeg:https://www.doizieux.fr/wp-content/uploads/2025/06/Fete-de-la-Musique-2025.jpg
END:VEVENT
BEGIN:VEVENT
DTSTART;TZID=Europe/Paris:20250516T183000
DTEND;TZID=Europe/Paris:20250516T210000
DTSTAMP:20260425T163926
CREATED:20250507T111635Z
LAST-MODIFIED:20250507T111635Z
UID:61463-1747420200-1747429200@www.doizieux.fr
SUMMARY:AG AFR
DESCRIPTION:📍 Salle du foyer\, La Terrasse-sur-Dorlay (près de l’église) \nAdhérents\, parents\, habitants du village\, curieux … venez nombreux !\nOn fait le bilan de l’année\, on discute de l’avenir de l’association\, et surtout : la présidence se libère.\n👉 Nous cherchons de nouveaux bénévoles\, sous toutes formes d’engagement : un coup de main ponctuel\, un rôle plus régulier\, ou pourquoi pas une co-présidence ! \n🍹 Verre de l’amitié en fin de rencontre\n👧🧒 Activités prévues pour les enfants sur place \nVotre présence est précieuse pour la suite de l’association ! \nPour nous contacter :\nles activités sportives > afrlesactivites@gmail.com\nl’accueil de loisirs > afrterrazieux@gmail.com
URL:https://www.doizieux.fr/evenement/ag-afr/
LOCATION:salle du Foyer – La Terrasse-sur-Dorlay\, la Terrasse-sur-Dorlay\, 42740
END:VEVENT
BEGIN:VEVENT
DTSTART;TZID=Europe/Paris:20250410T183000
DTEND;TZID=Europe/Paris:20250410T210000
DTSTAMP:20260425T163926
CREATED:20250324T175835Z
LAST-MODIFIED:20250324T175835Z
UID:61308-1744309800-1744318800@www.doizieux.fr
SUMMARY:Assemblée Générale du Comité des Fêtes
DESCRIPTION:
URL:https://www.doizieux.fr/evenement/assemblee-generale-du-comite-des-fetes/
LOCATION:Ô Mon Pila\, Place de la Platière\, Doizieux\, 42740\, France
END:VEVENT
BEGIN:VEVENT
DTSTART;TZID=Europe/Paris:20250405T083000
DTEND;TZID=Europe/Paris:20250405T120000
DTSTAMP:20260425T163926
CREATED:20250325T090820Z
LAST-MODIFIED:20250325T090950Z
UID:61313-1743841800-1743854400@www.doizieux.fr
SUMMARY:Opération Pilat Propre
DESCRIPTION:
URL:https://www.doizieux.fr/evenement/operation-pilat-propre-3/
LOCATION:Parking du Barrage\, Doizieux\, 42740
END:VEVENT
BEGIN:VEVENT
DTSTART;TZID=Europe/Paris:20250329T200000
DTEND;TZID=Europe/Paris:20250329T230000
DTSTAMP:20260425T163926
CREATED:20250312T104516Z
LAST-MODIFIED:20250312T104516Z
UID:61258-1743278400-1743289200@www.doizieux.fr
SUMMARY:Spectacle tout public "Théâtre mode d'emploi"
DESCRIPTION:Dans le cadre de notre partenariat avec la Comédie de Saint-Etienne\, la comédie nomade se produira à Doizieux\, salle polyvalente le samedi 29 mars 2025 à 20h. Spectacle rocambolesque aux multiples rebondissements. \nRéservations au 04 77 20 95 62 ou contact@doizieux.fr
URL:https://www.doizieux.fr/evenement/spectacle-tout-public-theatre-mode-demploi/
LOCATION:Salle Polyvalente de Doizieux\, 62 route Neuve\, Doizieux\, 42740\, France
END:VEVENT
BEGIN:VEVENT
DTSTART;TZID=Europe/Paris:20250323T090000
DTEND;TZID=Europe/Paris:20250323T170000
DTSTAMP:20260425T163926
CREATED:20250312T103543Z
LAST-MODIFIED:20250312T104336Z
UID:61256-1742720400-1742749200@www.doizieux.fr
SUMMARY:Journée avec les Amis de Doizieux
DESCRIPTION:
URL:https://www.doizieux.fr/evenement/journee-avec-les-amis-de-doizieux/
LOCATION:Salle Polyvalente de Doizieux\, 62 route Neuve\, Doizieux\, 42740\, France
END:VEVENT
BEGIN:VEVENT
DTSTART;TZID=Europe/Paris:20250315T093000
DTEND;TZID=Europe/Paris:20250315T140000
DTSTAMP:20260425T163926
CREATED:20250224T162226Z
LAST-MODIFIED:20250224T162226Z
UID:61181-1742031000-1742047200@www.doizieux.fr
SUMMARY:AG Nouveaux Ateliers du Dorlay
DESCRIPTION:Ordre du Jour : \n– bilan de l’année 2024 pour les trois volets de l’association (ateliers patrimoine / mobilité et tiers-lieu La Turbine Créative)\n\n\nUn repas partagé est prévu à la suite de l’AG.
URL:https://www.doizieux.fr/evenement/ag-nouveaux-ateliers-du-dorlay/
LOCATION:201 Route de l’Ollagnière\, 42740 Doizieux
END:VEVENT
BEGIN:VEVENT
DTSTART;TZID=Europe/Paris:20250314T200000
DTEND;TZID=Europe/Paris:20250314T220000
DTSTAMP:20260425T163926
CREATED:20250227T150513Z
LAST-MODIFIED:20250227T151608Z
UID:61202-1741982400-1741989600@www.doizieux.fr
SUMMARY:Histoires de Bouche - Tour de Doizieux
DESCRIPTION:Vendredi 14 mars à 20h00\, à la Tour de Doizieux\nRéservation conseillée 06 46 54 43 59 / 06 71 32 67 55
URL:https://www.doizieux.fr/evenement/histoires-de-bouche-tour-de-doizieux/
LOCATION:Tour de Doizieux\, Rue de la Tour\, Doizieux\, 42740
END:VEVENT
BEGIN:VEVENT
DTSTART;TZID=Europe/Paris:20250309T100000
DTEND;TZID=Europe/Paris:20250309T160000
DTSTAMP:20260425T163926
CREATED:20250227T085706Z
LAST-MODIFIED:20250227T090243Z
UID:61195-1741514400-1741536000@www.doizieux.fr
SUMMARY:Exposition Le Long du Barrage
DESCRIPTION:Regards croisés sur la biodiversité à Doizieux\npar Justine Galland (photographies) et Irina Troubetzky (poèmes) …  \nVenez voyager autour du barrage du Moulinage à travers une exposition de photos et de poèmes inspirants\, le samedi 8 et le dimanche 9 mars 2025 à la Tour de Doizieux.\n\n\nIrina Troubetzky et Justine Galland\, en service civique à la mairie de Doizieux\, vous proposent de venir partager un pot convivial le samedi à 11h00. \n\nDimanche 9 Mars 2025 de 10h00 à 16h00… Tour médiévale de Doizieux\nUn évènement en partenariat avec la mairie de Doizieux.
URL:https://www.doizieux.fr/evenement/exposition-le-long-du-barrage-2/
LOCATION:Tour de Doizieux\, Rue de la Tour\, Doizieux\, 42740
END:VEVENT
BEGIN:VEVENT
DTSTART;TZID=Europe/Paris:20250308T110000
DTEND;TZID=Europe/Paris:20250308T170000
DTSTAMP:20260425T163926
CREATED:20250227T085546Z
LAST-MODIFIED:20250227T090033Z
UID:61191-1741431600-1741453200@www.doizieux.fr
SUMMARY:Exposition Le Long du Barrage
DESCRIPTION:Vernissage de l’exposition « Le long du barrage »\nregards croisés sur la biodiversité à Doizieux\npar Justine Galland (photographies) et Irina Troubetzky (poèmes) …  \nVenez voyager autour du barrage du Moulinage à travers une exposition de photos et de poèmes inspirants\, le samedi 8 et le dimanche 9 mars 2025 à la Tour de Doizieux.\n\n\nIrina Troubetzky et Justine Galland\, en service civique à la mairie de Doizieux\, vous proposent de venir partager un pot convivial le samedi à 11h00. \n\nSamedi 8 Mars 2025 à 11h00 … Tour médiévale de Doizieux\nUn évènement en partenariat avec la mairie de Doizieux.\n\n \n \n 
URL:https://www.doizieux.fr/evenement/exposition-le-long-du-barrage/
LOCATION:Tour de Doizieux\, Rue de la Tour\, Doizieux\, 42740
END:VEVENT
BEGIN:VEVENT
DTSTART;TZID=Europe/Paris:20250306T200000
DTEND;TZID=Europe/Paris:20250306T220000
DTSTAMP:20260425T163926
CREATED:20250221T181850Z
LAST-MODIFIED:20250221T181850Z
UID:61165-1741291200-1741298400@www.doizieux.fr
SUMMARY:Spectacle - La Beauté des Sexes - Salle Polyvalente
DESCRIPTION:Dans le cadre des semaines de l’égalité\, un spectacle drôle et complice est proposé à la salle polyvalente de Doizieux jeudi 6 mars à 20h00 \nRéservations au 04 77 20 95 62 ou contact@doizieux.fr \n 
URL:https://www.doizieux.fr/evenement/spectacle-la-beaute-des-sexes-salle-polyvalente/
LOCATION:Salle Polyvalente de Doizieux\, 62 route Neuve\, Doizieux\, 42740\, France
END:VEVENT
BEGIN:VEVENT
DTSTART;TZID=Europe/Paris:20250303T180000
DTEND;TZID=Europe/Paris:20250303T200000
DTSTAMP:20260425T163926
CREATED:20250221T174509Z
LAST-MODIFIED:20250221T181335Z
UID:61162-1741024800-1741032000@www.doizieux.fr
SUMMARY:PLUi : réunion publique au Musée d'Art Moderne
DESCRIPTION:Une réunion publique sur le Projet de Plan Local d’Urbanisme Intercommunal se tiendra lundi 3 mars au Musée d’Art Moderne de Saint Etienne de 18h à 20h
URL:https://www.doizieux.fr/evenement/plui-reunion-publique-au-musee-dart-moderne/
END:VEVENT
BEGIN:VEVENT
DTSTART;TZID=Europe/Paris:20250216T143000
DTEND;TZID=Europe/Paris:20250216T173000
DTSTAMP:20260425T163926
CREATED:20250204T131455Z
LAST-MODIFIED:20250204T131455Z
UID:61093-1739716200-1739727000@www.doizieux.fr
SUMMARY:Projection "UN P'TIT TRUC EN PLUS" avec l'association Main dans la Main
DESCRIPTION:
URL:https://www.doizieux.fr/evenement/projection-un-ptit-truc-en-plus-avec-lassociation-main-dans-la-main/
LOCATION:Salle Polyvalente de Doizieux\, 62 route Neuve\, Doizieux\, 42740\, France
END:VEVENT
BEGIN:VEVENT
DTSTART;TZID=Europe/Paris:20241111T100000
DTEND;TZID=Europe/Paris:20241111T120000
DTSTAMP:20260425T163926
CREATED:20241105T135457Z
LAST-MODIFIED:20241105T135457Z
UID:60632-1731319200-1731326400@www.doizieux.fr
SUMMARY:Commémorations du 11 novembre 2024
DESCRIPTION:La cérémonie officielle du 11 novembre 2024 se tiendra au cimetière de Doizieux. \nProgramme :\nA 10h00\, dépôt de gerbe au cimetière de LA TERRASSE SUR DORLAY\nA 10h30\, dépôt de gerbe au cimetière de SAINT JUST EN DOIZIEUX\nA 11h00\, cérémonie officielle au cimetière de DOIZIEUX
URL:https://www.doizieux.fr/evenement/commemorations-du-11-novembre-2024/
LOCATION:Cimetières
END:VEVENT
BEGIN:VEVENT
DTSTART;TZID=Europe/Paris:20241006T090000
DTEND;TZID=Europe/Paris:20241006T180000
DTSTAMP:20260425T163926
CREATED:20240906T085243Z
LAST-MODIFIED:20240927T183249Z
UID:60475-1728205200-1728237600@www.doizieux.fr
SUMMARY:Doizieux en Fêtes le 6 octobre - Fête interassociations
DESCRIPTION:  \n  \n \n  \n \n  \n 
URL:https://www.doizieux.fr/evenement/doizieux-en-fetes-le-6-octobre-fete-interassociations/
LOCATION:Centre Bourg Doizieux
ATTACH;FMTTYPE=image/jpeg:https://www.doizieux.fr/wp-content/uploads/2024/09/DOIZIEUX-EN-FETE-2024.jpg
END:VEVENT
BEGIN:VEVENT
DTSTART;TZID=Europe/Paris:20240914T103000
DTEND;TZID=Europe/Paris:20240914T120000
DTSTAMP:20260425T163926
CREATED:20240906T085530Z
LAST-MODIFIED:20240911T165421Z
UID:60479-1726309800-1726315200@www.doizieux.fr
SUMMARY:Commémoration des victimes du crash de l'avion militaire Dakota
DESCRIPTION:Le 14 septembre 2024 aura lieu la cérémonie de commémoration des victimes du crash de l’avion militaire Dakota américain en 1944. \nLe rassemblement aura lieu à 10h30 à la stèle érigée à proximité de la Jasserie du Pilat.\n– Cérémonie officielle\n– Exposition\n– Inauguration de la signalétique patrimoniale\n– Edition d’un ouvrage sur l’évènement\n– Vin d’honneur \nCette manifestation est labélisée par l’Etat « 80 ans de la Libération« .
URL:https://www.doizieux.fr/evenement/mairie-de-doizieux-commemoration-des-victimes-du-crash-de-lavion-militaire-dakota/
LOCATION:la Jasserie du Pilat\, la jasserie\, doizieux\, 42740\, France
ATTACH;FMTTYPE=image/jpeg:https://www.doizieux.fr/wp-content/uploads/2024/09/Affiche-Commemoration-2024-Crash-Dakota-rotated.jpg
END:VEVENT
BEGIN:VEVENT
DTSTART;TZID=Europe/Paris:20240907T090000
DTEND;TZID=Europe/Paris:20240907T170000
DTSTAMP:20260425T163926
CREATED:20240404T130121Z
LAST-MODIFIED:20240404T130121Z
UID:60083-1725699600-1725728400@www.doizieux.fr
SUMMARY:Déchèterie Mobile
DESCRIPTION:
URL:https://www.doizieux.fr/evenement/decheterie-mobile/
LOCATION:parking du centre technique municipal\, impasse du Dorlay\, Doizieux\, 42740
END:VEVENT
BEGIN:VEVENT
DTSTART;TZID=Europe/Paris:20240707T153000
DTEND;TZID=Europe/Paris:20240707T210000
DTSTAMP:20260425T163926
CREATED:20240629T072354Z
LAST-MODIFIED:20240629T072354Z
UID:60308-1720366200-1720386000@www.doizieux.fr
SUMMARY:50 ans du Parc du Pilat à Doizieux
DESCRIPTION:A DOIZIEUX \n50 ANS DU PARC DU PILAT \nDIMANCHE 7 JUILLET\n\n\n\n\n\n\n\nLes Amis de Doizieux seront présents à la tour pour des visites commentées et une exposition de photos sur le thème : Doizieux hier et aujourd’hui.  \nCHAMP LIBRE A DOIZIEUXFlânerie et visites dans le village au fil de l’eauAccroché au versant Gier\, aux pieds des forêts de sapins\, Doizieux\, c’est le village montagnard du Pilat\,et pourtant à deux pas de la ville \nDe 15h30 à 18h30 \nAu milieu des côteaux abrupts\, coule le Dorlay. Cette rivière\, représente un habitat de choix pour une faune et une flore très riche. Rarement asséchée et très pentue\, elle a connu de nombreux sites industriels installés le long de son parcours. Les scieries\, les forges et les usines textiles utilisaient l’énergie de l’eau issue de son dénivelé idéal. Parcours libre dans le village à la découverte de la biodiversité et du patrimoine textile.– l’usine Viornery\, l’ancienne « fabrique de moulin à soie » où se sont installés des artisans d’art textile. En 1900\, l’usine compte 100 ouvrières qui travaillaient et dormaient sur place… Laissée à l’abandon l’usine a été transformée en école communale et accueille les artisans des Nouveaux Ateliers du Dorlay : visite des ateliers des artisans d’art– une exposition textile avec des témoignages vidéo des ouvrières dans la salle des fêtes– un parcours biodiversité autour du bassin– la visite de la tour en haut du village pour en découvrir la légende avec Les amis de Doizieux \n18h30Parole en l’airCirque avec la compagnie Ginger MoustacheLa tête en bas et les pieds en l’air\, Sophie et Calou se jouent de tous les codes dans une discussion hilarante.Du main à main aux jeux icariens\, ce duo clownesque nous embarque dans un univers complètement loufoque et désaxé ou les prouesses techniques se combinent à un humour ravageur. Une première création réjouissante et magistralement exécutée !En partenariat avec Le Festival des 7 collines et Saint-Étienne Métropole \n19h30Dégustation – BuvetteUn bar avec de bons produits et notamment la bière Loqui de Doizieux et une dégustation offerte avec des producteurs locaux : La Ferme des 4 pins\, et la Ferme de la Place\, leurs fromages et charcuterie Buvette et Petite restauration réalisée par le tout nouveau restaurant de Doizieux Ô Mon Pila \nRendez-vous au coeur du village et suivre les flèches
URL:https://www.doizieux.fr/evenement/50-ans-du-parc-du-pilat-a-doizieux/
LOCATION:Centre Bourg Doizieux
ATTACH;FMTTYPE=image/jpeg:https://www.doizieux.fr/wp-content/uploads/2023/03/logo-Doizieux.jpg
END:VEVENT
BEGIN:VEVENT
DTSTART;TZID=Europe/Paris:20240629T100000
DTEND;TZID=Europe/Paris:20240629T130000
DTSTAMP:20260425T163926
CREATED:20240621T155631Z
LAST-MODIFIED:20240621T155631Z
UID:60275-1719655200-1719666000@www.doizieux.fr
SUMMARY:Inaugurations
DESCRIPTION:Dans le cadre de la redynamisation du centre bourg de Doizieux\,\nJean-Philippe PORCHEROT\, Maire de Doizieux et les membres de son Conseil Municipal\nont le plaisir de vous convier aux inaugurations de l’aménagement piétonnier des abords du barrage du Moulinage\, d’une aire de jeux\,\ndu bâtiment du commerce multiservices-bar-restaurant et son logement \nSamedi 29 juin 2024 à 10h00\nRendez-vous devant la mairie de Doizieux – 1\, place de la Platière
URL:https://www.doizieux.fr/evenement/inaugurations/
LOCATION:Centre Bourg Doizieux
END:VEVENT
END:VCALENDAR