BEGIN:VCALENDAR
VERSION:2.0
PRODID:-//Mairie de Doizieux - ECPv6.15.20//NONSGML v1.0//EN
CALSCALE:GREGORIAN
METHOD:PUBLISH
X-WR-CALNAME:Mairie de Doizieux
X-ORIGINAL-URL:https://www.doizieux.fr
X-WR-CALDESC:Évènements pour Mairie de Doizieux
REFRESH-INTERVAL;VALUE=DURATION:PT1H
X-Robots-Tag:noindex
X-PUBLISHED-TTL:PT1H
BEGIN:VTIMEZONE
TZID:Europe/Paris
BEGIN:DAYLIGHT
TZOFFSETFROM:+0100
TZOFFSETTO:+0200
TZNAME:CEST
DTSTART:20250330T010000
END:DAYLIGHT
BEGIN:STANDARD
TZOFFSETFROM:+0200
TZOFFSETTO:+0100
TZNAME:CET
DTSTART:20251026T010000
END:STANDARD
BEGIN:DAYLIGHT
TZOFFSETFROM:+0100
TZOFFSETTO:+0200
TZNAME:CEST
DTSTART:20260329T010000
END:DAYLIGHT
BEGIN:STANDARD
TZOFFSETFROM:+0200
TZOFFSETTO:+0100
TZNAME:CET
DTSTART:20261025T010000
END:STANDARD
BEGIN:DAYLIGHT
TZOFFSETFROM:+0100
TZOFFSETTO:+0200
TZNAME:CEST
DTSTART:20270328T010000
END:DAYLIGHT
BEGIN:STANDARD
TZOFFSETFROM:+0200
TZOFFSETTO:+0100
TZNAME:CET
DTSTART:20271031T010000
END:STANDARD
END:VTIMEZONE
BEGIN:VEVENT
DTSTART;TZID=Europe/Paris:20260508T100000
DTEND;TZID=Europe/Paris:20260508T123000
DTSTAMP:20260425T143816
CREATED:20260413T124358Z
LAST-MODIFIED:20260413T125910Z
UID:62865-1778234400-1778243400@www.doizieux.fr
SUMMARY:Commémorations 8 mai 2026
DESCRIPTION:La cérémonie officielle du 8 Mai 2026 se tiendra au cimetière de Doizieux. \nProgramme :\nA 10h00\, dépôt de gerbe au cimetière de LA TERRASSE SUR DORLAY\nA 10h30\, dépôt de gerbe au cimetière de SAINT JUST EN DOIZIEUX\nA 11h00\, cérémonie officielle au cimetière de DOIZIEUX
URL:https://www.doizieux.fr/evenement/commemorations-8-mai-2026/
END:VEVENT
BEGIN:VEVENT
DTSTART;TZID=Europe/Paris:20260606T080000
DTEND;TZID=Europe/Paris:20260606T120000
DTSTAMP:20260425T143816
CREATED:20260413T132057Z
LAST-MODIFIED:20260413T133907Z
UID:62891-1780732800-1780747200@www.doizieux.fr
SUMMARY:Opération Pilat Propre 2026
DESCRIPTION:la Commune de Doizieux\, en partenariat avec le Parc Naturel Régional du Pilat\, organise l’Opération Pilat Propre \nSamedi 6 juin à 8h\, rendez-vous devant la mairie de Doizieux \n \nLa matinée se conclura par un apéritif convivial.
URL:https://www.doizieux.fr/evenement/operation-pilat-propre-2026/
END:VEVENT
BEGIN:VEVENT
DTSTART;TZID=Europe/Paris:20260612T190000
DTEND;TZID=Europe/Paris:20260612T200000
DTSTAMP:20260425T143816
CREATED:20260413T132546Z
LAST-MODIFIED:20260413T132546Z
UID:62894-1781290800-1781294400@www.doizieux.fr
SUMMARY:AG AFR
DESCRIPTION:Jeudi 12 juin à 19h : Assemblée Générale (exceptionnelle + ordinaire)\n📍 Salle du Foyer de la Terrasse-sur-Dorlay\nVenez partager vos idées et voter pour l’avenir de l’AFR !
URL:https://www.doizieux.fr/evenement/ag-afr-2/
LOCATION:salle du Foyer – La Terrasse-sur-Dorlay\, la Terrasse-sur-Dorlay\, 42740
END:VEVENT
BEGIN:VEVENT
DTSTART;TZID=Europe/Paris:20260618T180000
DTEND;TZID=Europe/Paris:20260620T220000
DTSTAMP:20260425T143816
CREATED:20260416T165636Z
LAST-MODIFIED:20260416T165636Z
UID:62946-1781805600-1781992800@www.doizieux.fr
SUMMARY:La Guinguette - La Terrasse-sur-Dorlay
DESCRIPTION:
URL:https://www.doizieux.fr/evenement/la-guinguette-la-terrasse-sur-dorlay/
END:VEVENT
BEGIN:VEVENT
DTSTART;TZID=Europe/Paris:20260619T180000
DTEND;TZID=Europe/Paris:20260619T190000
DTSTAMP:20260425T143816
CREATED:20260416T164801Z
LAST-MODIFIED:20260416T164801Z
UID:62935-1781892000-1781895600@www.doizieux.fr
SUMMARY:AFR - Spectacle de fin d'année
DESCRIPTION:
URL:https://www.doizieux.fr/evenement/afr-spectacle-de-fin-dannee-2/
LOCATION:City Stade La Terrasse sur Dorlay\, City Stade\, la Terrasse-sur-Dorlay\, 42740
END:VEVENT
BEGIN:VEVENT
DTSTART;TZID=Europe/Paris:20260621T180000
DTEND;TZID=Europe/Paris:20260621T220000
DTSTAMP:20260425T143816
CREATED:20260416T165155Z
LAST-MODIFIED:20260416T165155Z
UID:62938-1782064800-1782079200@www.doizieux.fr
SUMMARY:Fête de la Musique
DESCRIPTION:
URL:https://www.doizieux.fr/evenement/fete-de-la-musique-3/
LOCATION:parking Salle Polyvalente
END:VEVENT
BEGIN:VEVENT
DTSTART;TZID=Europe/Paris:20260625T180000
DTEND;TZID=Europe/Paris:20260627T220000
DTSTAMP:20260425T143816
CREATED:20260416T165726Z
LAST-MODIFIED:20260416T165726Z
UID:62950-1782410400-1782597600@www.doizieux.fr
SUMMARY:La Guinguette - La Terrasse-sur-Dorlay
DESCRIPTION:
URL:https://www.doizieux.fr/evenement/la-guinguette-la-terrasse-sur-dorlay-2/
END:VEVENT
BEGIN:VEVENT
DTSTART;TZID=Europe/Paris:20260627T100000
DTEND;TZID=Europe/Paris:20260627T180000
DTSTAMP:20260425T143816
CREATED:20260416T165304Z
LAST-MODIFIED:20260416T165304Z
UID:62940-1782554400-1782583200@www.doizieux.fr
SUMMARY:Fête du Foot
DESCRIPTION:
URL:https://www.doizieux.fr/evenement/fete-du-foot/
LOCATION:Stade de Foot
END:VEVENT
BEGIN:VEVENT
DTSTART;TZID=Europe/Paris:20260813T180000
DTEND;TZID=Europe/Paris:20260816T220000
DTSTAMP:20260425T143816
CREATED:20260416T165547Z
LAST-MODIFIED:20260416T165547Z
UID:62943-1786644000-1786917600@www.doizieux.fr
SUMMARY:La Guinguette - Doizieux
DESCRIPTION:
URL:https://www.doizieux.fr/evenement/la-guinguette-doizieux/
LOCATION:parking Salle Polyvalente
END:VEVENT
END:VCALENDAR